BEGIN:VCALENDAR
VERSION:2.0
PRODID:-//Le Repère d&#039;Idézen - ECPv6.11.2.1//NONSGML v1.0//EN
CALSCALE:GREGORIAN
METHOD:PUBLISH
X-WR-CALNAME:Le Repère d&#039;Idézen
X-ORIGINAL-URL:https://www.le-repere-didezen.fr
X-WR-CALDESC:Évènements pour Le Repère d&#039;Idézen
REFRESH-INTERVAL;VALUE=DURATION:PT1H
X-Robots-Tag:noindex
X-PUBLISHED-TTL:PT1H
BEGIN:VTIMEZONE
TZID:Europe/Paris
BEGIN:DAYLIGHT
TZOFFSETFROM:+0100
TZOFFSETTO:+0200
TZNAME:CEST
DTSTART:20260329T010000
END:DAYLIGHT
BEGIN:STANDARD
TZOFFSETFROM:+0200
TZOFFSETTO:+0100
TZNAME:CET
DTSTART:20261025T010000
END:STANDARD
END:VTIMEZONE
BEGIN:VEVENT
DTSTART;TZID=Europe/Paris:20260420T123000
DTEND;TZID=Europe/Paris:20260420T133000
DTSTAMP:20260420T235313
CREATED:20251124T220117Z
LAST-MODIFIED:20251125T112349Z
UID:3403-1776688200-1776691800@www.le-repere-didezen.fr
SUMMARY:Sport Adapté 20/04/2026
DESCRIPTION:
URL:https://www.le-repere-didezen.fr/ateliers/sport-adapte-20-04-2026/
LOCATION:Adresse des ateliers : Maison Beaune Santé\, 5 rue du Régiment de Bourgogne 21200 Beaune
CATEGORIES:Sport adapté
END:VEVENT
BEGIN:VEVENT
DTSTART;TZID=Europe/Paris:20260420T190000
DTEND;TZID=Europe/Paris:20260420T200000
DTSTAMP:20260420T235313
CREATED:20250908T082934Z
LAST-MODIFIED:20260408T082524Z
UID:3243-1776711600-1776715200@www.le-repere-didezen.fr
SUMMARY:Relaxation du 20/04/2026 - annulé
DESCRIPTION:
URL:https://www.le-repere-didezen.fr/ateliers/relaxation-du-20-04-2026/
LOCATION:Adresse des ateliers : 19 route de Gigny à Beaune\, devant la Résidence des Primevères
CATEGORIES:Relaxation
END:VEVENT
END:VCALENDAR