BEGIN:VCALENDAR
VERSION:2.0
PRODID:-//Le Repère d&#039;Idézen - ECPv6.11.2.1//NONSGML v1.0//EN
CALSCALE:GREGORIAN
METHOD:PUBLISH
X-ORIGINAL-URL:https://www.le-repere-didezen.fr
X-WR-CALDESC:Évènements pour Le Repère d&#039;Idézen
REFRESH-INTERVAL;VALUE=DURATION:PT1H
X-Robots-Tag:noindex
X-PUBLISHED-TTL:PT1H
BEGIN:VTIMEZONE
TZID:Europe/Paris
BEGIN:DAYLIGHT
TZOFFSETFROM:+0100
TZOFFSETTO:+0200
TZNAME:CEST
DTSTART:20260329T010000
END:DAYLIGHT
BEGIN:STANDARD
TZOFFSETFROM:+0200
TZOFFSETTO:+0100
TZNAME:CET
DTSTART:20261025T010000
END:STANDARD
END:VTIMEZONE
BEGIN:VEVENT
DTSTART;TZID=Europe/Paris:20260203T190000
DTEND;TZID=Europe/Paris:20260203T200000
DTSTAMP:20260421T012302
CREATED:20251124T154038Z
LAST-MODIFIED:20251124T205615Z
UID:3248-1770145200-1770148800@www.le-repere-didezen.fr
SUMMARY:Pilates du 03/02/2026
DESCRIPTION:
URL:https://www.le-repere-didezen.fr/ateliers/pilates-du-03-02-2025/
LOCATION:Adresse des ateliers : Villa Médicis – 22 Route de Pommard à Beaune\, 22 route de Pommard\, BEAUNE\, 21200\, France
CATEGORIES:Pilates
END:VEVENT
BEGIN:VEVENT
DTSTART;TZID=Europe/Paris:20260224T190000
DTEND;TZID=Europe/Paris:20260224T200000
DTSTAMP:20260421T012302
CREATED:20251124T154038Z
LAST-MODIFIED:20251124T205615Z
UID:3250-1771959600-1771963200@www.le-repere-didezen.fr
SUMMARY:Pilates du 24/02/2026
DESCRIPTION:
URL:https://www.le-repere-didezen.fr/ateliers/pilates-du-24-02-2025/
LOCATION:Adresse des ateliers : Villa Médicis – 22 Route de Pommard à Beaune\, 22 route de Pommard\, BEAUNE\, 21200\, France
CATEGORIES:Pilates
END:VEVENT
END:VCALENDAR