BEGIN:VCALENDAR
VERSION:2.0
PRODID:-//Le Repère d&#039;Idézen - ECPv6.11.2.1//NONSGML v1.0//EN
CALSCALE:GREGORIAN
METHOD:PUBLISH
X-ORIGINAL-URL:https://www.le-repere-didezen.fr
X-WR-CALDESC:Évènements pour Le Repère d&#039;Idézen
REFRESH-INTERVAL;VALUE=DURATION:PT1H
X-Robots-Tag:noindex
X-PUBLISHED-TTL:PT1H
BEGIN:VTIMEZONE
TZID:Europe/Paris
BEGIN:DAYLIGHT
TZOFFSETFROM:+0100
TZOFFSETTO:+0200
TZNAME:CEST
DTSTART:20260329T010000
END:DAYLIGHT
BEGIN:STANDARD
TZOFFSETFROM:+0200
TZOFFSETTO:+0100
TZNAME:CET
DTSTART:20261025T010000
END:STANDARD
END:VTIMEZONE
BEGIN:VEVENT
DTSTART;TZID=Europe/Paris:20260505T190000
DTEND;TZID=Europe/Paris:20260505T200000
DTSTAMP:20260421T000050
CREATED:20251124T154038Z
LAST-MODIFIED:20260401T080030Z
UID:3253-1778007600-1778011200@www.le-repere-didezen.fr
SUMMARY:Pilates du 05/05/2026 - attention changement lieu !
DESCRIPTION:
URL:https://www.le-repere-didezen.fr/ateliers/pilates-du-05-05-2025/
LOCATION:Adresse des ateliers : 19 route de Gigny à Beaune\, devant la Résidence des Primevères
CATEGORIES:Pilates
END:VEVENT
BEGIN:VEVENT
DTSTART;TZID=Europe/Paris:20260519T190000
DTEND;TZID=Europe/Paris:20260519T200000
DTSTAMP:20260421T000050
CREATED:20251124T153503Z
LAST-MODIFIED:20260401T080119Z
UID:3262-1779217200-1779220800@www.le-repere-didezen.fr
SUMMARY:Pilates du 19/05/2026 - attention changement lieu !
DESCRIPTION:
URL:https://www.le-repere-didezen.fr/ateliers/pilates-du-19-05-2025/
LOCATION:Adresse des ateliers : 19 route de Gigny à Beaune\, devant la Résidence des Primevères
CATEGORIES:Pilates
END:VEVENT
END:VCALENDAR